BEGIN:VCALENDAR
VERSION:2.0
PRODID:-//Empezando Contigo: Association for Latine Therapist - ECPv6.15.20//NONSGML v1.0//EN
CALSCALE:GREGORIAN
METHOD:PUBLISH
X-WR-CALNAME:Empezando Contigo: Association for Latine Therapist
X-ORIGINAL-URL:https://empezandocontigo.org
X-WR-CALDESC:Events for Empezando Contigo: Association for Latine Therapist
REFRESH-INTERVAL;VALUE=DURATION:PT1H
X-Robots-Tag:noindex
X-PUBLISHED-TTL:PT1H
BEGIN:VTIMEZONE
TZID:America/Los_Angeles
BEGIN:DAYLIGHT
TZOFFSETFROM:-0800
TZOFFSETTO:-0700
TZNAME:PDT
DTSTART:20240310T100000
END:DAYLIGHT
BEGIN:STANDARD
TZOFFSETFROM:-0700
TZOFFSETTO:-0800
TZNAME:PST
DTSTART:20241103T090000
END:STANDARD
BEGIN:DAYLIGHT
TZOFFSETFROM:-0800
TZOFFSETTO:-0700
TZNAME:PDT
DTSTART:20250309T100000
END:DAYLIGHT
BEGIN:STANDARD
TZOFFSETFROM:-0700
TZOFFSETTO:-0800
TZNAME:PST
DTSTART:20251102T090000
END:STANDARD
BEGIN:DAYLIGHT
TZOFFSETFROM:-0800
TZOFFSETTO:-0700
TZNAME:PDT
DTSTART:20260308T100000
END:DAYLIGHT
BEGIN:STANDARD
TZOFFSETFROM:-0700
TZOFFSETTO:-0800
TZNAME:PST
DTSTART:20261101T090000
END:STANDARD
END:VTIMEZONE
BEGIN:VEVENT
DTSTART;TZID=America/Los_Angeles:20250525T110000
DTEND;TZID=America/Los_Angeles:20250525T130000
DTSTAMP:20260425T052236
CREATED:20250418T012815Z
LAST-MODIFIED:20250418T012815Z
UID:623-1748170800-1748178000@empezandocontigo.org
SUMMARY:Networking con Corazón (Long Beach\, CA)
DESCRIPTION:Join Us for a Day of Connection! \nCalling all Latine therapists! Whether you’re a seasoned therapist or just starting out\, building community within our field is essential. Join us for a Networking Con Corazon and crafting event designed to help create community\, share insights\, and create meaningful connections. \nWhen: Sunday May 25\, 2025; 11am – 1pm \nWhere: 5150 E Pacific Coast Hwy Ste 200\, Long Beach\, CA 90804-3312\, United States \nWhat to Expect:\n✨ Lite appetizers and drinks\n✨ Create your DIY collage coaster\n✨ A welcoming space to unwind and connect\n✨Cost: $20 to RSVP by Friday May 16\, 2025 \nTo secure your spot\, please send your payment via Venmo to @empezandocontigo\nPlease include: Your full name and “CA Networking Event” in the payment note \nLimited Spaces Available! \nLet’s nurture ourselves through camaraderie and support. Together\, we grow stronger! \nPlease RSVP by filling out this form AND submitting your $20 payment via Venmo (@empezandocontigo) by May 16th: https://forms.gle/JvmhJm7kxTqY7Wyp6\n\n\nevent\n\n\nOrganizer: Empezando Contigo: Association for Latine Therapists Events
URL:https://empezandocontigo.org/event/networking-con-corazon-long-beach-ca/
LOCATION:5150 E Pacific Coast Hwy\, 5150 E Pacific Coast Hwy\, #200\, Long Beach\, CA\, 90804\, United States
ATTACH;FMTTYPE=image/jpeg:https://empezandocontigo.org/wp-content/uploads/2025/04/cali.jpg
ORGANIZER;CN="Empezando Contigo%3A Association for Latine Therapists":MAILTO:hola@empezandocontigo.org
END:VEVENT
END:VCALENDAR