BEGIN:VCALENDAR
VERSION:2.0
PRODID:-//Empezando Contigo: Association for Latine Therapist - ECPv6.15.20//NONSGML v1.0//EN
CALSCALE:GREGORIAN
METHOD:PUBLISH
X-ORIGINAL-URL:https://empezandocontigo.org
X-WR-CALDESC:Events for Empezando Contigo: Association for Latine Therapist
REFRESH-INTERVAL;VALUE=DURATION:PT1H
X-Robots-Tag:noindex
X-PUBLISHED-TTL:PT1H
BEGIN:VTIMEZONE
TZID:America/Phoenix
BEGIN:STANDARD
TZOFFSETFROM:-0700
TZOFFSETTO:-0700
TZNAME:MST
DTSTART:20240101T000000
END:STANDARD
END:VTIMEZONE
BEGIN:VEVENT
DTSTART;TZID=America/Phoenix:20250629T160000
DTEND;TZID=America/Phoenix:20250629T170000
DTSTAMP:20260425T035446
CREATED:20250626T202502Z
LAST-MODIFIED:20250626T202502Z
UID:756-1751212800-1751216400@empezandocontigo.org
SUMMARY:Miembros Fiction Book Club Meeting
DESCRIPTION:Come join the first Fiction Book Club meeting! This is an introductory meeting where we can vote on our first reads\, discuss book club agenda\, and select a standing meeting time. Book Club will meet once a month on the 2nd Sunday and all Empezando Contigo Members are welcome to join! \nMeeting link is in our calendar and Members Facebook Group.
URL:https://empezandocontigo.org/event/miembros-fiction-book-club-meeting/
CATEGORIES:Members-only Event
ORGANIZER;CN="Empezando Contigo%3A Association for Latine Therapists":MAILTO:hola@empezandocontigo.org
END:VEVENT
END:VCALENDAR