BEGIN:VCALENDAR
VERSION:2.0
PRODID:-//Empezando Contigo: Association for Latine Therapist - ECPv6.15.20//NONSGML v1.0//EN
CALSCALE:GREGORIAN
METHOD:PUBLISH
X-ORIGINAL-URL:https://empezandocontigo.org
X-WR-CALDESC:Events for Empezando Contigo: Association for Latine Therapist
REFRESH-INTERVAL;VALUE=DURATION:PT1H
X-Robots-Tag:noindex
X-PUBLISHED-TTL:PT1H
BEGIN:VTIMEZONE
TZID:America/Los_Angeles
BEGIN:DAYLIGHT
TZOFFSETFROM:-0800
TZOFFSETTO:-0700
TZNAME:PDT
DTSTART:20240310T100000
END:DAYLIGHT
BEGIN:STANDARD
TZOFFSETFROM:-0700
TZOFFSETTO:-0800
TZNAME:PST
DTSTART:20241103T090000
END:STANDARD
BEGIN:DAYLIGHT
TZOFFSETFROM:-0800
TZOFFSETTO:-0700
TZNAME:PDT
DTSTART:20250309T100000
END:DAYLIGHT
BEGIN:STANDARD
TZOFFSETFROM:-0700
TZOFFSETTO:-0800
TZNAME:PST
DTSTART:20251102T090000
END:STANDARD
BEGIN:DAYLIGHT
TZOFFSETFROM:-0800
TZOFFSETTO:-0700
TZNAME:PDT
DTSTART:20260308T100000
END:DAYLIGHT
BEGIN:STANDARD
TZOFFSETFROM:-0700
TZOFFSETTO:-0800
TZNAME:PST
DTSTART:20261101T090000
END:STANDARD
END:VTIMEZONE
BEGIN:VEVENT
DTSTART;TZID=America/Los_Angeles:20251116T110000
DTEND;TZID=America/Los_Angeles:20251116T130000
DTSTAMP:20260424T203708
CREATED:20251001T185236Z
LAST-MODIFIED:20251023T155400Z
UID:831-1763290800-1763298000@empezandocontigo.org
SUMMARY:Churros y Chisme (Long Beach\, CA)
DESCRIPTION:A Networking Event for Latine Mental Health Professionals in California\n\n\n\nJoin us for un dia de conexión\, comunidad y conversación — with a side of churros y chisme (the good kind )!\n\n\n\nThis is your chance to meet other Latine therapists\, nurse practitioners\, psychologists\, and psychiatrists who are passionate about mental health\, cultura\, and supporting nuestra comunidad.\n\n\n\nWhether you’re a member or not (¡tod@s son bienvenid@s!)\, come network\, share stories\, and enjoy un buen momento with colegas who get it.\n\n\n\nBecause healing starts with connection — and a little bit of sweetness.\n\n\n\nWhen: Sunday November 16\, 2025; 11am-1pm\n\n\nWhere: 5150 Pacific Coast Hwy #200 Long Beach\, CA 90804\n\n\nWhat to Expect:\n Churros and drinks\n A welcoming space to unwind and connect\nCost: $10 to register by Friday November 14\, 2025\n\n\n\nLet’s nurture ourselves through camaraderie and support. Together\, we grow stronger!\n\n\nPlease RSVP by purchasing your ticket by November 14.\n\n\n\n**Please note: No refunds will be issued
URL:https://empezandocontigo.org/event/networking-con-corazon-long-beach-ca-2/
LOCATION:5150 E Pacific Coast Hwy\, 5150 E Pacific Coast Hwy\, #200\, Long Beach\, CA\, 90804\, United States
CATEGORIES:Networking con Corazón
ORGANIZER;CN="Empezando Contigo%3A Association for Latine Therapists":MAILTO:hola@empezandocontigo.org
END:VEVENT
END:VCALENDAR