BEGIN:VCALENDAR
VERSION:2.0
PRODID:-//Empezando Contigo: Association for Latine Therapist - ECPv6.15.20//NONSGML v1.0//EN
CALSCALE:GREGORIAN
METHOD:PUBLISH
X-ORIGINAL-URL:https://empezandocontigo.org
X-WR-CALDESC:Events for Empezando Contigo: Association for Latine Therapist
REFRESH-INTERVAL;VALUE=DURATION:PT1H
X-Robots-Tag:noindex
X-PUBLISHED-TTL:PT1H
BEGIN:VTIMEZONE
TZID:America/Phoenix
BEGIN:STANDARD
TZOFFSETFROM:-0700
TZOFFSETTO:-0700
TZNAME:MST
DTSTART:20240101T000000
END:STANDARD
END:VTIMEZONE
BEGIN:VEVENT
DTSTART;TZID=America/Phoenix:20250621T100000
DTEND;TZID=America/Phoenix:20250621T130000
DTSTAMP:20260425T073940
CREATED:20250606T205552Z
LAST-MODIFIED:20250606T205552Z
UID:717-1750500000-1750510800@empezandocontigo.org
SUMMARY:LatinaStrong® Mental Health Matters: Salud y Arte
DESCRIPTION:In collaboration with LatinaStrong®\, we invite you to a special community event. This Salud y Arte session features a powerful presentation by Empezando Contigo Founding Member Denise Jauregui\, LCSW. Together\, we’ll explore healing through cultural identity\, first-gen experiences\, and mental wellness. \nCome paint a beautiful canvas inspired by a local artist—and connect\, learn\, and heal in comunidad. \n\nRegister to attend
URL:https://empezandocontigo.org/event/latinastrong-mental-health-matters-salud-y-arte/
LOCATION:Frida’s Garden\, 2800 N. 16th St\, Phoenix\, AZ\, 85006\, United States
CATEGORIES:Community Event
ATTACH;FMTTYPE=image/jpeg:https://empezandocontigo.org/wp-content/uploads/2025/06/IMG_8023.jpg
END:VEVENT
END:VCALENDAR