BEGIN:VCALENDAR
VERSION:2.0
PRODID:-//Empezando Contigo: Association for Latine Therapist - ECPv6.15.20//NONSGML v1.0//EN
CALSCALE:GREGORIAN
METHOD:PUBLISH
X-ORIGINAL-URL:https://empezandocontigo.org
X-WR-CALDESC:Events for Empezando Contigo: Association for Latine Therapist
REFRESH-INTERVAL;VALUE=DURATION:PT1H
X-Robots-Tag:noindex
X-PUBLISHED-TTL:PT1H
BEGIN:VTIMEZONE
TZID:America/Phoenix
BEGIN:STANDARD
TZOFFSETFROM:-0700
TZOFFSETTO:-0700
TZNAME:MST
DTSTART:20250101T000000
END:STANDARD
END:VTIMEZONE
BEGIN:VEVENT
DTSTART;TZID=America/Phoenix:20260503T160000
DTEND;TZID=America/Phoenix:20260503T170000
DTSTAMP:20260424T115046
CREATED:20250812T211638Z
LAST-MODIFIED:20260417T184808Z
UID:810-1777824000-1777827600@empezandocontigo.org
SUMMARY:Miembros Fiction Book Club
DESCRIPTION:Attention\, fiction book–loving Miembros: \nJoin us in a discussion of the book Tomorrow and Tomorrow and Tomorrow by Gabrielle Zevin at our next Fiction Book Club meeting. \n📅 May 3rd\n🕓 4–5 PM PST\n💻 Via Google Meet (link available in our shared calendar and private FB group \nCome even if you’ve only read part of the book—or just want to listen in on the conversation! \nSee you then! 📚
URL:https://empezandocontigo.org/event/miembros-book-club/
CATEGORIES:Members-only Event
ORGANIZER;CN="Empezando Contigo%3A Association for Latine Therapists":MAILTO:hola@empezandocontigo.org
END:VEVENT
END:VCALENDAR