BEGIN:VCALENDAR
VERSION:2.0
PRODID:-//Empezando Contigo: Association for Latine Therapist - ECPv6.15.20//NONSGML v1.0//EN
CALSCALE:GREGORIAN
METHOD:PUBLISH
X-WR-CALNAME:Empezando Contigo: Association for Latine Therapist
X-ORIGINAL-URL:https://empezandocontigo.org
X-WR-CALDESC:Events for Empezando Contigo: Association for Latine Therapist
REFRESH-INTERVAL;VALUE=DURATION:PT1H
X-Robots-Tag:noindex
X-PUBLISHED-TTL:PT1H
BEGIN:VTIMEZONE
TZID:America/Phoenix
BEGIN:STANDARD
TZOFFSETFROM:-0700
TZOFFSETTO:-0700
TZNAME:MST
DTSTART:20240101T000000
END:STANDARD
END:VTIMEZONE
BEGIN:VEVENT
DTSTART;TZID=America/Phoenix:20260311T120000
DTEND;TZID=America/Phoenix:20260311T130000
DTSTAMP:20260424T102428
CREATED:20260219T194143Z
LAST-MODIFIED:20260225T194404Z
UID:1016-1773230400-1773234000@empezandocontigo.org
SUMMARY:Almuerzo y Aprendizaje: Empowering Immigrant Communities Impacted by ICE
DESCRIPTION:This is a clinical skills training for mental health professionals. \nThis session offering is for ECALT Miembros only. \nEmpowering Immigrant Communities Impacted by ICE \nThis training is meant for mental health professionals working with Immigrant and First-Gen clients who are experiencing fear of detention\, deportation\, even death due to recent ICE activity in the United States. Attendees will learn therapeutic techniques rooted in Existential Analysis to help clients to better understand their fear\, assess their inner capacity to cope with difficulty\, and activate that inner capacity to confront the current sociopolitical trauma experienced. \nSkills Level: Intermediate to Advanced \nLocation: Virtual via Google Meet \nDate: March 11th\, 2026 \nTime: 12pm – 1pm PST \nInvestment: $35 \nIn this training\, you will learn: (1) The basics of Fundamental Motivations and how to help clients improve feelings in FM1 \, which is tied to feeling safe to exist in the world. (2) The steps to explore the Gate of Death with clients\, helping them to confront their fear. (3) The process of Personal Positioning Method\, which is the method that engages a client’s inner capacity by being with the reality of the situation\, their inner consent\, and their ability to confront it. \nPresented by: Linda Ruvalcaba\, LPC \n1 CEU available. Presenters are approved to offer CEU trainings in accordance to the Arizona Board of Behavioral health examiners A.A.C. R4-6-802(D) 1. Empezando Contigo: Association for Latine Therapist is a 501c6. \nRegistration: Please visit our Miembros Google Calendar or Miembros Facebook Group for the registration link\, or email hola@empezandocontigo.org \nMeeting link will be emailed at least two days before the training. \nAttendance and Refund Policies: The training session is 60 minutes. Participants must log in on time. A 5-minute grace period is allowed. No entry will be permitted after 5 minutes from the scheduled start time. Registration is non-refundable. No refunds\, credits\, or transfers will be issued for missed or late attendance. Participants are responsible for ensuring they have a stable internet connection and access to the platform. \nBy registering\, you agree to this policy. \nTransparency: 75% of proceeds are paid to the presenter.
URL:https://empezandocontigo.org/event/almuerzo-y-aprendizaje/
CATEGORIES:Members-only Event
ORGANIZER;CN="Empezando Contigo%3A Association for Latine Therapists":MAILTO:hola@empezandocontigo.org
END:VEVENT
BEGIN:VEVENT
DTSTART;TZID=America/Phoenix:20251110T120000
DTEND;TZID=America/Phoenix:20251110T130000
DTSTAMP:20260424T102428
CREATED:20251103T183805Z
LAST-MODIFIED:20251103T184348Z
UID:876-1762776000-1762779600@empezandocontigo.org
SUMMARY:Almuerzo y Aprendizaje: Intro to Grief Through a Mexican-American Lens
DESCRIPTION:ECALT Presents: Intro to Grief Through a Mexican-American Lens\n\n1 CEU Credit Available\n\nThis training will go beyond the traditional “stages of grief” model to explore a more culturally-sensitive approach. We will focus on the Mexican-American experience of grief\, including the importance of family\, faith\, and community in the healing process.\n\nIn this training\, you will learn to:\n\nUnderstand Cultural Nuances: Recognize how cultural traditions like familismo\, novenas\, and Día de los Muertos shape the grieving process.\nEmbrace “Continuing Bonds”: Shift your focus from “letting go” to helping clients keep the memory of their deceased loved ones alive.\nApply Culturally-Informed Tools: Discover practical ways to help clients heal by using storytelling and rituals that honor their heritage.\n\nPresenter: Patricia Abigail Caballero\, MA\, NCC\, LPC\n\nWho This Training is For: This training is designed for mental health and wellness professionals as it includes clinical content. It is also suitable for anyone interested in mental wellness.\nThis training is an opportunity to deepen your clinical skills and provide more compassionate\, culturally-informed care to your clients.\n\n*This is an Empezando Contigo Miembros only event. Want to become a member? Apply Here\n\nLink provided to Members by email or found in our private Facebook group.\n\nPresenters are approved to offer CEU trainings in accordance to the Arizona Board of Behavioral health examiners A.A.C. R4-6-802(D) 1.\n\nMost but not all mental health professional regulatory boards accept out-of-state and/or online continuing education hours. CEUs are not nationally accredited.\n\nPresented by Empezando Contigo: Association for Latine Therapists (ECALT)
URL:https://empezandocontigo.org/event/almuerzo-y-aprendizaje-intro-to-grief-through-a-mexican-american-lens/
CATEGORIES:Members-only Event
ORGANIZER;CN="Empezando Contigo%3A Association for Latine Therapists":MAILTO:hola@empezandocontigo.org
END:VEVENT
BEGIN:VEVENT
DTSTART;TZID=America/Phoenix:20251009T120000
DTEND;TZID=America/Phoenix:20251009T130000
DTSTAMP:20260424T102428
CREATED:20250418T011759Z
LAST-MODIFIED:20250910T213925Z
UID:620-1760011200-1760014800@empezandocontigo.org
SUMMARY:EC: ALT Members Peer Consultation
DESCRIPTION:This is a chance for us to connect\, share stories\, and support each other in the work we do. Our group is all about creating a space where we can:\n\nLevel up our clinical skills: We’ll dive into case discussions\, swap ideas\, and pick up new techniques to refine our practice.\n\nHave each other’s backs: Let’s be real—this work can be tough. This group is a judgment-free zone where we can share challenges\, cheer each other on\, and trade helpful advice.\nKeep growing professionally: Together\, we’ll stay in the loop on best practices\, ethics\, and new trends that keep us at the top of our game.\n\nRunning late or need to leave early? No problem! Just show up when you can. We’re looking forward to coming together\, learning from one another\, and strengthening our work as a team.\n\nThis Peer Consultation group is only available to current Empezando Contigo Members.
URL:https://empezandocontigo.org/event/ec-alt-members-peer-consultation/
CATEGORIES:Members-only Event
ATTACH;FMTTYPE=image/png:https://empezandocontigo.org/wp-content/uploads/2025/04/Pink-and-Blue-Bold-Fashion-Event-Social-Media-Graphics.png.png
ORGANIZER;CN="Empezando Contigo%3A Association for Latine Therapists":MAILTO:hola@empezandocontigo.org
END:VEVENT
BEGIN:VEVENT
DTSTART;TZID=America/Phoenix:20251005T160000
DTEND;TZID=America/Phoenix:20251005T170000
DTSTAMP:20260424T102428
CREATED:20250910T184537Z
LAST-MODIFIED:20250910T213339Z
UID:822-1759680000-1759683600@empezandocontigo.org
SUMMARY:Annual Miembros Meeting
DESCRIPTION:✨ Miembros\, it’s that time again! ✨ \nJoin us for our Annual Miembros Meeting\, where we’ll come together to celebrate our growth\, share updates on the work we’ve been building\, and hear directly from you about the future of Empezando Contigo. \n📅 : Sunday\, October 5th\n🕰️: 4-5pm PST\n🖥️: Virtual via Google Meet \nThis is our chance to reflect on what we’ve accomplished juntxs\, and to dream big about what’s next para nuestra comunidad. Your voice matters—let’s keep shaping this space together. 💜 \nHope to see you then!
URL:https://empezandocontigo.org/event/annual-miembros-meeting/
CATEGORIES:Members-only Event
ATTACH;FMTTYPE=image/png:https://empezandocontigo.org/wp-content/uploads/2025/09/Annual-Miembros-Meeting.png
END:VEVENT
BEGIN:VEVENT
DTSTART;TZID=America/Phoenix:20250912T120000
DTEND;TZID=America/Phoenix:20250912T130000
DTSTAMP:20260424T102428
CREATED:20250527T235202Z
LAST-MODIFIED:20250910T213625Z
UID:665-1757678400-1757682000@empezandocontigo.org
SUMMARY:EC: ALT Members Peer Consultation
DESCRIPTION:This is a chance for us to connect\, share stories\, and support each other in the work we do. Our group is all about creating a space where we can:\n\nLevel up our clinical skills: We’ll dive into case discussions\, swap ideas\, and pick up new techniques to refine our practice.\n\nHave each other’s backs: Let’s be real—this work can be tough. This group is a judgment-free zone where we can share challenges\, cheer each other on\, and trade helpful advice.\nKeep growing professionally: Together\, we’ll stay in the loop on best practices\, ethics\, and new trends that keep us at the top of our game.\n\nRunning late or need to leave early? No problem! Just show up when you can. We’re looking forward to coming together\, learning from one another\, and strengthening our work as a team.\n\nThis Peer Consultation group is only available to current Empezando Contigo Members.
URL:https://empezandocontigo.org/event/ec-alt-members-peer-consultation-3/
CATEGORIES:Members-only Event
ATTACH;FMTTYPE=image/png:https://empezandocontigo.org/wp-content/uploads/2025/04/Pink-and-Blue-Bold-Fashion-Event-Social-Media-Graphics.png.png
ORGANIZER;CN="Empezando Contigo%3A Association for Latine Therapists":MAILTO:hola@empezandocontigo.org
END:VEVENT
BEGIN:VEVENT
DTSTART;TZID=America/Phoenix:20250810T160000
DTEND;TZID=America/Phoenix:20250810T170000
DTSTAMP:20260424T102428
CREATED:20250707T234506Z
LAST-MODIFIED:20250707T234506Z
UID:780-1754841600-1754845200@empezandocontigo.org
SUMMARY:Miembros Fiction Book Club
DESCRIPTION:Empezando Contigo Miembros! Join us for our monthly Fiction Book Club meeting. \nIn August we will be discussing: The Last Cuentista by Donna Barba Higuera \nMembers are welcome to join the conversation whether or not they read/finished the book. You can find our Google Meets link in our shared Members calendar in our private Facebook group event page. \nWe hope to see you then!
URL:https://empezandocontigo.org/event/miembros-fiction-book-club/
CATEGORIES:Members-only Event
ORGANIZER;CN="Empezando Contigo%3A Association for Latine Therapists":MAILTO:hola@empezandocontigo.org
END:VEVENT
BEGIN:VEVENT
DTSTART;TZID=America/Phoenix:20250629T160000
DTEND;TZID=America/Phoenix:20250629T170000
DTSTAMP:20260424T102428
CREATED:20250626T202502Z
LAST-MODIFIED:20250626T202502Z
UID:756-1751212800-1751216400@empezandocontigo.org
SUMMARY:Miembros Fiction Book Club Meeting
DESCRIPTION:Come join the first Fiction Book Club meeting! This is an introductory meeting where we can vote on our first reads\, discuss book club agenda\, and select a standing meeting time. Book Club will meet once a month on the 2nd Sunday and all Empezando Contigo Members are welcome to join! \nMeeting link is in our calendar and Members Facebook Group.
URL:https://empezandocontigo.org/event/miembros-fiction-book-club-meeting/
CATEGORIES:Members-only Event
ORGANIZER;CN="Empezando Contigo%3A Association for Latine Therapists":MAILTO:hola@empezandocontigo.org
END:VEVENT
BEGIN:VEVENT
DTSTART;TZID=America/Phoenix:20250612T120000
DTEND;TZID=America/Phoenix:20250612T130000
DTSTAMP:20260424T102428
CREATED:20250606T205831Z
LAST-MODIFIED:20250606T205840Z
UID:724-1749729600-1749733200@empezandocontigo.org
SUMMARY:EC:ALT Members Peer Consultation
DESCRIPTION:This is a chance for us to connect\, share stories\, and support each other in the work we do. Our group is all about creating a space where we can:\n\nLevel up our clinical skills: We’ll dive into case discussions\, swap ideas\, and pick up new techniques to refine our practice.\n\nHave each other’s backs: Let’s be real—this work can be tough. This group is a judgment-free zone where we can share challenges\, cheer each other on\, and trade helpful advice.\nKeep growing professionally: Together\, we’ll stay in the loop on best practices\, ethics\, and new trends that keep us at the top of our game.\n\nRunning late or need to leave early? No problem! Just show up when you can. We’re looking forward to coming together\, learning from one another\, and strengthening our work as a team.\n\nThis Peer Consultation group is only available to current Empezando Contigo Members.
URL:https://empezandocontigo.org/event/ecalt-members-peer-consultation/
CATEGORIES:Members-only Event
ATTACH;FMTTYPE=image/png:https://empezandocontigo.org/wp-content/uploads/2025/04/Pink-and-Blue-Bold-Fashion-Event-Social-Media-Graphics.png.png
ORGANIZER;CN="Empezando Contigo%3A Association for Latine Therapists":MAILTO:hola@empezandocontigo.org
END:VEVENT
END:VCALENDAR