BEGIN:VCALENDAR
VERSION:2.0
PRODID:-//Empezando Contigo: Association for Latine Therapist - ECPv6.15.20//NONSGML v1.0//EN
CALSCALE:GREGORIAN
METHOD:PUBLISH
X-ORIGINAL-URL:https://empezandocontigo.org
X-WR-CALDESC:Events for Empezando Contigo: Association for Latine Therapist
REFRESH-INTERVAL;VALUE=DURATION:PT1H
X-Robots-Tag:noindex
X-PUBLISHED-TTL:PT1H
BEGIN:VTIMEZONE
TZID:America/New_York
BEGIN:DAYLIGHT
TZOFFSETFROM:-0500
TZOFFSETTO:-0400
TZNAME:EDT
DTSTART:20250309T070000
END:DAYLIGHT
BEGIN:STANDARD
TZOFFSETFROM:-0400
TZOFFSETTO:-0500
TZNAME:EST
DTSTART:20251102T060000
END:STANDARD
BEGIN:DAYLIGHT
TZOFFSETFROM:-0500
TZOFFSETTO:-0400
TZNAME:EDT
DTSTART:20260308T070000
END:DAYLIGHT
BEGIN:STANDARD
TZOFFSETFROM:-0400
TZOFFSETTO:-0500
TZNAME:EST
DTSTART:20261101T060000
END:STANDARD
BEGIN:DAYLIGHT
TZOFFSETFROM:-0500
TZOFFSETTO:-0400
TZNAME:EDT
DTSTART:20270314T070000
END:DAYLIGHT
BEGIN:STANDARD
TZOFFSETFROM:-0400
TZOFFSETTO:-0500
TZNAME:EST
DTSTART:20271107T060000
END:STANDARD
END:VTIMEZONE
BEGIN:VEVENT
DTSTART;TZID=America/New_York:20260425T113000
DTEND;TZID=America/New_York:20260425T133000
DTSTAMP:20260424T104603
CREATED:20260325T230946Z
LAST-MODIFIED:20260325T231338Z
UID:1023-1777116600-1777123800@empezandocontigo.org
SUMMARY:Spring Meet Up for DMV Latine Therapists
DESCRIPTION:Spring Meet Up for DMV Latine Therapists  \nYou’re invited to our Spring Empezando Contigo meetup. Let’s welcome the season of renewal by coming together en comunidad.  \nCome join us as we share a space to connect\, build relationships\, and enjoy meaningful conversations and un poco de chisme! \n Saturday\, April 25th\n 11:30am–1:30pm EST\n La Limeña Grill (Peruvian Restaurant)\n1093 Rockville Pike\, Rockville\, MD \nA reservation has been made for a small group (15 max) to keep the gathering intimate\, so be sure to reserve your spot early! \nWhether you’re new to the field or have years of experience — this is a space for us all.  \nTe esperamos! \n\n\n— Mishka Kimball\, DMV Chair of Empezando Contigo\, Association for Latine Therapists.
URL:https://empezandocontigo.org/event/spring-dmv-event/
LOCATION:La Limeña Grill\, 1093 Rockville Pike\, Rockville\, 20852\, United States
CATEGORIES:Networking con Corazón
ORGANIZER;CN="Empezando Contigo%3A Association for Latine Therapists":MAILTO:hola@empezandocontigo.org
END:VEVENT
BEGIN:VEVENT
DTSTART;TZID=America/New_York:20260428T180000
DTEND;TZID=America/New_York:20260428T190000
DTSTAMP:20260424T104603
CREATED:20250716T233653Z
LAST-MODIFIED:20260325T232117Z
UID:793-1777399200-1777402800@empezandocontigo.org
SUMMARY:Networking con Corazón (virtual)
DESCRIPTION:Join Us for Our Monthly Networking Event!\n\n**Meetings for April\, May\, June will be on the 4th Tuesday of the month at 6pm EST/3pm PST**\n\nOur networking group began in January 2020 as a space for Latine therapists in the Phoenix area to connect and support one another. What started as a small gathering has grown into an incredible community of over 100 Latine therapists from around the world.\n\nInspired by this powerful community\, Linda Ruvalcaba from Empieza Aquí Counseling founded Empezando Contigo: Association for Latine Therapists to continue fostering these connections. We now host virtual networking events every month\, along with expanding in-person events nationwide.\nThese gatherings are more than just professional networking—they’re about building meaningful connections\, supporting one another\, growing our referral lists\, and addressing the challenges our comunidad faces. We believe in decolonizing the networking experience\, so feel free to join however you’re comfortable: with your cenita\, vino\, cafecito\, or even from your car. No worries if life gets in the way—join late\, leave early\, or have your kids in the background. This space is for you\, just as you are.\n\nWe meet via Google Meet—be sure to download the app if joining from a phone or tablet: meet.google.com/shd-rgyq-bob\n\nLooking forward to seeing you there!\n\n**Meetings for April\, May\, June will be on the 4th Tuesday of the month at 6pm EST/3pm PST**
URL:https://empezandocontigo.org/event/networking-con-corazon/
CATEGORIES:Networking con Corazón
ORGANIZER;CN="Empezando Contigo%3A Association for Latine Therapists":MAILTO:hola@empezandocontigo.org
END:VEVENT
END:VCALENDAR